BEGIN:VCALENDAR
VERSION:2.0
PRODID:-//eventon.com NONSGML v1.0//EN
CALSCALE:GREGORIAN
METHOD:PUBLISH
BEGIN:VEVENT
UID:69e8ada6050b2
DTSTAMP:20260422T111446Z
DTSTART:20220917T000000Z
DTEND:20220917T020000Z
LOCATION:Towngate Theatre 2118 Market Street Wheeling WV 26003
SUMMARY:Towngate Theatre presents "Cabaret"
DESCRIPTION:Come to the infamous Kit Kat Klub\,  as the Emcee\,  Sally Bowl
 es\,  and the rest of a raucous cast of characters take the stage to tantal
 ize the crowd in &#8220;Cabaret!&#8221; This classic musical is the season 
 opener for the main stage season at Towngate Theatre in Wheeling. Shows tak
 e place[..]\nhttps://oionline.com/events/towngate-theatre-present-cabaret/
URL:https://oionline.com/events/towngate-theatre-present-cabaret/
END:VEVENT
END:VCALENDAR