BEGIN:VCALENDAR
VERSION:2.0
PRODID:-//eventon.com NONSGML v1.0//EN
CALSCALE:GREGORIAN
METHOD:PUBLISH
BEGIN:VEVENT
UID:69e8abf13b39a
DTSTAMP:20260422T110729Z
DTSTART:20230318T000000Z
DTEND:20230318T020000Z
LOCATION:Towngate Theatre 2118 Market Street Wheeling WV 26003
SUMMARY:Towngate Theatre presents "Stones in His Pockets"
DESCRIPTION:&#8220;Stones in His Pockets\, &#8221; a wickedly funny Irish
  play\,  is on the main stage at Towngate Theatre in Wheeling. Shows take 
 place March 17\,  18\,  19 &amp; 24\,  25\,  2023. Curtain is at 8pm Frida
 ys and Saturdays. A 3pm matinee takes place Sunday\,  March 19. *A performa
 nce has been added for 8pm Friday\,  March[..]\nhttps://oionline.com/events
 /towngate-theatre-presents-stones-in-his-pockets/
URL:https://oionline.com/events/towngate-theatre-presents-stones-in-his-pockets/
END:VEVENT
END:VCALENDAR