BEGIN:VCALENDAR
VERSION:2.0
PRODID:-//eventon.com NONSGML v1.0//EN
CALSCALE:GREGORIAN
METHOD:PUBLISH
BEGIN:VEVENT
UID:69e8979d54dd1
DTSTAMP:20260422T094045Z
DTSTART:20230506T000000Z
DTEND:20230506T020000Z
LOCATION:Towngate Theatre 2118 Market Street Wheeling WV 26003
SUMMARY:Towngate Theatre presents "All My Sons"
DESCRIPTION:&#8220;All My Sons\, &#8221; Arthur Miller&#8217;s American ma
 sterpiece\,  closes the main stage season at Towngate Theatre in Wheeling.
  Shows take place May 5\,  6\,  7 &amp; 12\,  13\,  2023. Curtain is at 8p
 m Fridays and Saturdays. A 3pm matinee takes place Sunday\,  May 7. About t
 he Play In the aftermath of WWII\,  the Keller[..]\nhttps://oionline.com/ev
 ents/towngate-theatre-presents-all-my-sons/
URL:https://oionline.com/events/towngate-theatre-presents-all-my-sons/
END:VEVENT
END:VCALENDAR