BEGIN:VCALENDAR
VERSION:2.0
PRODID:-//eventon.com NONSGML v1.0//EN
CALSCALE:GREGORIAN
METHOD:PUBLISH
BEGIN:VEVENT
UID:69ed866e4b858
DTSTAMP:20260426T032846Z
DTSTART:20230728T010000Z
DTEND:20230728T020000Z
LOCATION:Schrader Environmental Education Center Oglebay Resort\,  Wheeling\,  WV
SUMMARY:Moth Madness
DESCRIPTION:It’s National Moth Week! Celebrate these winged wonders as we
  lure them in with a lighted sheet for up-close study.  Collection jars\, 
  microscopes\,  and field guides provided. Thursday\,  July 27; 9-10pm. Mee
 t at the Schrader Center. $5/free OI members. Register online or call 304-2
 42-6855. Explore nature as a family… Replace[..]\nhttps://oionline.com/ev
 ents/moth-madness-schrader-center/
URL:https://oionline.com/events/moth-madness-schrader-center/
END:VEVENT
END:VCALENDAR