BEGIN:VCALENDAR
VERSION:2.0
PRODID:-//eventon.com NONSGML v1.0//EN
CALSCALE:GREGORIAN
METHOD:PUBLISH
BEGIN:VEVENT
UID:69ea31453db52
DTSTAMP:20260423T144837Z
DTSTART:20230701
DTEND:20230702
LOCATION:The Museums of Oglebay Institute Oglebay Resort\,  Wheeling\,  WV
SUMMARY:Chemistry and Color: The Science of How Glass Gets its Colors
DESCRIPTION:The Museums of Oglebay Institute present the exhibit Chemistry 
 and Color: The Science of How Glass Gets its Colors. It is on display in th
 e Frey-Hires Gallery of Oglebay Institute&#8217;s Glass Museum  July 1—J
 anuary 7\,  2024. About the Exhibit The science of creating color in glass 
 has been carefully guarded[..]\nhttps://oionline.com/events/chemistry-and-c
 olor-oglebay-institute-glass-museum/
URL:https://oionline.com/events/chemistry-and-color-oglebay-institute-glass-museum/
END:VEVENT
END:VCALENDAR