BEGIN:VCALENDAR
VERSION:2.0
PRODID:-//eventon.com NONSGML v1.0//EN
CALSCALE:GREGORIAN
METHOD:PUBLISH
BEGIN:VEVENT
UID:69e59e8fa8cc0
DTSTAMP:20260420T033335Z
DTSTART:20230916T000000Z
DTEND:20230916T020000Z
LOCATION:Towngate Theatre 2118 Market Street Wheeling WV 26003
SUMMARY:Towngate Theatre presents “Into the Woods”
DESCRIPTION:Travel &#8220;Into the Woods&#8221; to a topsy-turvy fairy tale
  world through Stephen Sondheim songs and remarkable characters\,  seen fro
 m a fresh perspective. This celebrated and much-loved musical is the season
  opener for the main stage season at Towngate Theatre in Wheeling. Shows ta
 ke place September 15\,  16\,  17 &amp; 22\, [..]\nhttps://oionline.com/eve
 nts/towngate-theatre-presents-into-the-woods/
URL:https://oionline.com/events/towngate-theatre-presents-into-the-woods/
END:VEVENT
END:VCALENDAR