BEGIN:VCALENDAR
VERSION:2.0
PRODID:-//eventon.com NONSGML v1.0//EN
CALSCALE:GREGORIAN
METHOD:PUBLISH
BEGIN:VEVENT
UID:69e5b52c293ae
DTSTAMP:20260420T051004Z
DTSTART:20230929T230000Z
DTEND:20230930T020000Z
LOCATION:Towngate Theatre 2118 Market Street Wheeling WV 26003
SUMMARY:Towngate Theatre presents a Staged Reading of “Cat on a Hot Tin Roof”
DESCRIPTION:Towngate Theatre presents a Staged Reading of “Cat on a Hot T
 in Roof” by Tennessee Williams at 7pm September 29. This special program 
 takes place in memory of Bettie Steele—a longtime community theater actor
  and director and one of Towngate’s founders—who died in February of 20
 23. About Bettie Steele Bettie[..]\nhttps://oionline.com/events/towngate-th
 eatre-presents-reading-cat-on-a-hot-tin-roof/
URL:https://oionline.com/events/towngate-theatre-presents-reading-cat-on-a-hot-tin-roof/
END:VEVENT
END:VCALENDAR