BEGIN:VCALENDAR
VERSION:2.0
PRODID:-//eventon.com NONSGML v1.0//EN
CALSCALE:GREGORIAN
METHOD:PUBLISH
BEGIN:VEVENT
UID:69e91d5da7c2a
DTSTAMP:20260422T191125Z
DTSTART:20231030T230000Z
DTEND:20231031T003000Z
LOCATION:Ohio University Eastern 45425 National Road
SUMMARY:"The Wizard of Oz" Ballet at Ohio University Eastern
DESCRIPTION:Oglebay Institute’s Youth Ballet Company dances the journey o
 f Dorothy\,  who is swept away from her home in Kansas and led to the magic
 al Land of Oz. With friends\,  villains\,  and life lessons along the way\,
   the show is a contemporary production of this iconic\,  well-loved story 
 and features dozens[..]\nhttps://oionline.com/events/the-wizard-of-oz-balle
 t-ohio-university-eastern/
URL:https://oionline.com/events/the-wizard-of-oz-ballet-ohio-university-eastern/
END:VEVENT
END:VCALENDAR