BEGIN:VCALENDAR
VERSION:2.0
PRODID:-//eventon.com NONSGML v1.0//EN
CALSCALE:GREGORIAN
METHOD:PUBLISH
BEGIN:VEVENT
UID:69ebac504fcfb
DTSTAMP:20260424T174552Z
DTSTART:20250301T003000Z
DTEND:20250301T045900Z
LOCATION:Towngate Theatre 2118 Market Street Wheeling WV 26003
SUMMARY:Towngate Theatre Dinner & A Movie: "Remember the Titans"
DESCRIPTION:A unique movie theater in Wheeling\,  Towngate offers screening
 s of some of America’s most iconic films. Towngate Theatre presents &#822
 0;Remember the Titans&#8221; 7:30 p.m. Friday\,  February 28\,  2025 Pre-sc
 reening dinner (6:30 p.m.)\,  movie ticket &amp; popcorn &#8211; $30 (Reser
 vation required.) Movie only &#8211; $8 (No reservation required.) About th
 e Movie[..]\nhttps://oionline.com/events/towngate-theatre-dinner-and-movie-
 remember-the-titans/
URL:https://oionline.com/events/towngate-theatre-dinner-and-movie-remember-the-titans/
END:VEVENT
END:VCALENDAR