BEGIN:VCALENDAR
VERSION:2.0
PRODID:-//eventon.com NONSGML v1.0//EN
CALSCALE:GREGORIAN
METHOD:PUBLISH
BEGIN:VEVENT
UID:69eb99d06ac01
DTSTAMP:20260424T162656Z
DTSTART:20250404T233000Z
DTEND:20250405T035900Z
LOCATION:Towngate Theatre 2118 Market Street Wheeling WV 26003
SUMMARY:Towngate Theatre Dinner & A Movie: "On the Waterfront"
DESCRIPTION:A unique movie theater in Wheeling\,  Towngate offers screening
 s of some of America’s most iconic films. Towngate Theatre presents &#822
 0;On the Waterfront&#8221; 7:30 p.m. Friday\,  April 4\,  2025 Pre-screenin
 g dinner (6:30 p.m.)\,  movie ticket &amp; popcorn &#8211; $30 (Reservation
  required.) Movie only &#8211; $8 (No reservation required.) About the Movi
 e[..]\nhttps://oionline.com/events/towngate-theatre-dinner-and-movie-on-the
 -waterfront/
URL:https://oionline.com/events/towngate-theatre-dinner-and-movie-on-the-waterfront/
END:VEVENT
END:VCALENDAR