BEGIN:VCALENDAR
VERSION:2.0
PRODID:-//eventon.com NONSGML v1.0//EN
CALSCALE:GREGORIAN
METHOD:PUBLISH
BEGIN:VEVENT
UID:69ebac362c487
DTSTAMP:20260424T174526Z
DTSTART:20241013T190000Z
DTEND:20241014T035900Z
LOCATION:Towngate Theatre 2118 Market Street Wheeling WV 26003
SUMMARY:Oglebay Institute presents "Hansel & Gretel" Ballet
DESCRIPTION:Oglebay Institute&#8217;s Youth Ballet Company presents Hansel 
 &amp; Gretel at Towngate Theatre. Shows take place 3pm &amp; 7pm Sunday\,  
 October 13; 7pm Saturday\,  October 19; 3pm &amp; 7pm Sunday\,  October 20 
 For more than 200 years\,  children around the world have been captivated b
 y the story of brave siblings “Hansel[..]\nhttps://oionline.com/events/og
 lebay-institute-presents-hansel-and-gretel-ballet/
URL:https://oionline.com/events/oglebay-institute-presents-hansel-and-gretel-ballet/
END:VEVENT
END:VCALENDAR