BEGIN:VCALENDAR
VERSION:2.0
PRODID:-//eventon.com NONSGML v1.0//EN
CALSCALE:GREGORIAN
METHOD:PUBLISH
BEGIN:VEVENT
UID:69ebac37ceba0
DTSTAMP:20260424T174527Z
DTSTART:20250201T000000Z
DTEND:20250201T045900Z
LOCATION:Towngate Theatre 2118 Market Street Wheeling WV 26003
SUMMARY:Towngate Theatre presents “Beauty and the Beast”
DESCRIPTION:“Beauty and the Beast” comes to the Towngate stage as part 
 of the children&#8217;s theater season. Shows take place at 7pm January 31;
  3pm February 1\,  2\,  8\,  9\,  2025 Tickets are $15 ($13 OI members) fo
 r adults and $10 for children 13 &amp; under. Purchase tickets online or ca
 ll 304-242-7700.[..]\nhttps://oionline.com/events/towngate-theatre-presents
 -beauty-and-the-beast/
URL:https://oionline.com/events/towngate-theatre-presents-beauty-and-the-beast/
END:VEVENT
END:VCALENDAR