BEGIN:VCALENDAR
VERSION:2.0
PRODID:-//eventon.com NONSGML v1.0//EN
CALSCALE:GREGORIAN
METHOD:PUBLISH
BEGIN:VEVENT
UID:69eb979a1c95c
DTSTAMP:20260424T161730Z
DTSTART:20250510T000000Z
DTEND:20250510T020000Z
LOCATION:Towngate Theatre 2118 Market Street Wheeling WV 26003
SUMMARY:Towngate Theatre presents “Seascape"
DESCRIPTION:Towngate Theatre presents “Seascape” by Edward Albee\,  pro
 duced by Special Arrangement with DPS\,  Inc. Shows take place May 9\,  10\
 ,  11\,  16\,  17\,  2025. Curtain is at 8pm Fridays and Saturdays. A 3pm m
 atinee takes place Sunday\,  May 11. Dennis Fox directs. About the Play **W
 inner of the 1975 Pulitzer[..]\nhttps://oionline.com/events/towngate-theatr
 e-presents-seascape/
URL:https://oionline.com/events/towngate-theatre-presents-seascape/
END:VEVENT
END:VCALENDAR