BEGIN:VCALENDAR
VERSION:2.0
PRODID:-//eventon.com NONSGML v1.0//EN
CALSCALE:GREGORIAN
METHOD:PUBLISH
BEGIN:VEVENT
UID:69e7964f534c6
DTSTAMP:20260421T152255Z
DTSTART:20260215T010000Z
DTEND:20260215T045900Z
LOCATION:Stifel Fine Arts Center &amp; School of Dance 1330 National Road\,  Wheeling\,  WV 26003
SUMMARY:Jazz at the Stifel presents Alexander Peck Trio\,  featuring Donna Peck
DESCRIPTION:Jazz at the Stifel presents Alexander Peck Trio\,  featuring Do
 nna Peck 8pm Saturday\,  February 14\,  2026 at Stifel Fine Arts Center. Al
 l tickets are $25. Purchase online or call 304-242-7700. Jazz at the Stifel
  is sponsored\,  in part\,  by the Wheeling Arts &amp; Cultural Commission.
  2025-26 Jazz at the Stifel[..]\nhttps://oionline.com/events/jazz-at-the-st
 ifel-presents-alexander-peck-trio/
URL:https://oionline.com/events/jazz-at-the-stifel-presents-alexander-peck-trio/
END:VEVENT
END:VCALENDAR