BEGIN:VCALENDAR
VERSION:2.0
PRODID:-//eventon.com NONSGML v1.0//EN
CALSCALE:GREGORIAN
METHOD:PUBLISH
BEGIN:VEVENT
UID:69ea464b91df4
DTSTAMP:20260423T161819Z
DTSTART:20251012T190000Z
DTEND:20251013T035900Z
LOCATION:Towngate Theatre 2118 Market Street Wheeling WV 26003
SUMMARY:Oglebay Institute presents "12 Dancing Princesses" Ballet
DESCRIPTION:Dance the night away with “12 Dancing Princesses”—the fal
 l production of Oglebay Institute’s Youth Ballet Company. The talented yo
 ung dancers move through the mystery\,  romance\,  and enchantment of this 
 classic fairy tale put to music and told through original choreography. Sho
 ws take place 3pm &amp; 7pm Sunday\,  October 12; 7pm[..]\nhttps://oionline
 .com/events/oglebay-institute-presents-12-dancing-princesses/
URL:https://oionline.com/events/oglebay-institute-presents-12-dancing-princesses/
END:VEVENT
END:VCALENDAR