BEGIN:VCALENDAR
VERSION:2.0
PRODID:-//eventon.com NONSGML v1.0//EN
CALSCALE:GREGORIAN
METHOD:PUBLISH
BEGIN:VEVENT
UID:69ea5bdd34ff2
DTSTAMP:20260423T175021Z
DTSTART:20251212T000000Z
DTEND:20251212T045900Z
LOCATION:Towngate Theatre 2118 Market Street Wheeling WV 26003
SUMMARY:Towngate Theatre presents  “The Homecoming: A Christmas Story”
DESCRIPTION:“The Homecoming: A Christmas Story” comes to the Towngate s
 tage as part of the children&#8217;s theater season. Shows take place at 7p
 m December 11 &amp; 12; 3pm December 13 &amp; 14. Tickets are $15/$13 OI Me
 mbers/$10 kids 13 and under *Special ticket price for Thursday December 11:
  $8 all seats[..]\nhttps://oionline.com/events/towngate-theatre-presents-th
 e-homecoming-a-christmas-story/
URL:https://oionline.com/events/towngate-theatre-presents-the-homecoming-a-christmas-story/
END:VEVENT
END:VCALENDAR