BEGIN:VCALENDAR
VERSION:2.0
PRODID:-//eventon.com NONSGML v1.0//EN
CALSCALE:GREGORIAN
METHOD:PUBLISH
BEGIN:VEVENT
UID:69ea5d1f541d4
DTSTAMP:20260423T175543Z
DTSTART:20260307T010000Z
DTEND:20260307T045900Z
LOCATION:Towngate Theatre 2118 Market Street Wheeling WV 26003
SUMMARY:Towngate Theatre presents Rodgers & Hammerstein’s “Cinderella”
DESCRIPTION:Rodgers &amp; Hammerstein’s “Cinderella” comes to the Tow
 ngate stage as part of the children&#8217;s theater season. Shows take plac
 e at 8pm March 6\,  7\,  13\,  14; 3pm March 8\,  2026. Tickets are $20 ($1
 8 OI members) for adults and $10 for children 13 &amp; under. Sponsored by 
 the Helen J.[..]\nhttps://oionline.com/events/towngate-theatre-presents-cin
 derella-musical/
URL:https://oionline.com/events/towngate-theatre-presents-cinderella-musical/
END:VEVENT
END:VCALENDAR