BEGIN:VCALENDAR
VERSION:2.0
PRODID:-//eventon.com NONSGML v1.0//EN
CALSCALE:GREGORIAN
METHOD:PUBLISH
BEGIN:VEVENT
UID:69ecdd61d8a2c
DTSTAMP:20260425T152729Z
DTSTART:20260424T220000Z
DTEND:20260630T220000Z
LOCATION:Stifel Fine Arts Center &amp; School of Dance 1330 National Road\,  Wheeling\,  WV 26003
SUMMARY:Artist in Residence - Pottery Workshops with Audra Clayton
DESCRIPTION:Audra Lynn Clayton has been named Artist in Residence at the St
 ifel Fine Arts Center. A ceramic artist\,  Clayton creates sculptural works
  inspired by the relationship between people and place. During her spring r
 esidency\,  she will develop new work and engage the community through open
  studios and workshops. Workshop Information[..]\nhttps://oionline.com/even
 ts/artist-in-residence-pottery-workshops-with-audra-clayton/
URL:https://oionline.com/events/artist-in-residence-pottery-workshops-with-audra-clayton/
END:VEVENT
END:VCALENDAR