BEGIN:VCALENDAR
VERSION:2.0
PRODID:-//eventon.com NONSGML v1.0//EN
CALSCALE:GREGORIAN
METHOD:PUBLISH
BEGIN:VEVENT
UID:69ecdbda30e47
DTSTAMP:20260425T152058Z
DTSTART:20260424T220000Z
DTEND:20260630T220000Z
LOCATION:Stifel Fine Arts Center &amp; School of Dance 1330 National Road\,  Wheeling\,  WV 26003
SUMMARY:Artist in Residence - Griffin Nordstrom
DESCRIPTION:Griffin Nordstrom â€“ Artist in Residence Griffin Nordstrom is 
 a fiber artist and quiltmaker whose work explores reuse\,  placemaking\,  a
 nd reinterpretations of history through a contemporary Appalachian lens. Co
 ming from a family quilting tradition spanning over 150 years\,  Nordstromâ
 €™s practice is largely self-taught and informed by extensive material expe
 rimentation with[..]\nhttps://oionline.com/events/artist-in-residence-griff
 in-nordstrom/
URL:https://oionline.com/events/artist-in-residence-griffin-nordstrom/
END:VEVENT
END:VCALENDAR