BEGIN:VCALENDAR
VERSION:2.0
PRODID:-//eventon.com NONSGML v1.0//EN
CALSCALE:GREGORIAN
METHOD:PUBLISH
BEGIN:VEVENT
UID:69ecc2d6447c5
DTSTAMP:20260425T133414Z
DTSTART:20260425T170000Z
DTEND:20260425T190000Z
LOCATION:Stifel Fine Arts Center &amp; School of Dance 1330 National Road\,  Wheeling\,  WV 26003
SUMMARY:Artist in Residence - OPEN HOUSE
DESCRIPTION:Come meet our Artists in Residence and learn more about them\, 
  their work\,  and their upcoming workshops!   This event is free and ope
 n to the public.  To hear more about them please click on their name below
 : Audra Clayton Casey Miller Griffin Nordstrom &nbsp;\nhttps://oionline.com
 /events/artist-in-residence-open-house/
URL:https://oionline.com/events/artist-in-residence-open-house/
END:VEVENT
END:VCALENDAR