BEGIN:VCALENDAR
VERSION:2.0
PRODID:-//eventon.com NONSGML v1.0//EN
CALSCALE:GREGORIAN
METHOD:PUBLISH
BEGIN:VEVENT
UID:69ea723bb7ff8
DTSTAMP:20260423T192547Z
DTSTART:20260116T053000Z
DTEND:20260116T073000Z
LOCATION:Stifel Fine Arts Center &amp; School of Dance 1330 National Road\,  Wheeling\,  WV 26003
SUMMARY:Regional Student Art Exhibition Opening Reception & Awards Ceremony
DESCRIPTION:Join us Thursday\,  January 15\,  2026 at  Stifel Fine Arts Ce
 nter for the opening of OI&#8217;s 37th Regional Student Art Exhibition. A 
 free opening reception begins at 6:30pm. Awards ceremony will take place at
  approximately 7pm. Register online to attend the opening reception or call
  304-242-7700. RSVPs are appreciated\,  but[..]\nhttps://oionline.com/event
 s/regional-student-art-exhibition-opening-reception/
URL:https://oionline.com/events/regional-student-art-exhibition-opening-reception/
END:VEVENT
END:VCALENDAR