BEGIN:VCALENDAR
VERSION:2.0
PRODID:-//eventon.com NONSGML v1.0//EN
CALSCALE:GREGORIAN
METHOD:PUBLISH
BEGIN:VEVENT
UID:69e8b1a528bf7
DTSTAMP:20260422T113149Z
DTSTART:20200602T131500Z
DTEND:20200602T141500Z
LOCATION:Schrader Environmental Education Center Oglebay Resort\,  Wheeling\,  WV
SUMMARY:Guided Nature Walk at the Schrader Center
DESCRIPTION:Continue the tradition began in 1926 by naturalist A.B. Brooks 
 with a nature walk along the trails of Oglebay. A Schrader Center naturalis
 t will guide you as we learn to identify animal tracks\,  flowers\,  birds
 \,  edible plants and other elements of forest ecology. Available 1:15-2:15
 pm Tuesdays\,  June 2 through August 11. (Does[..]\nhttps://oionline.com/e
 vents/nature-walk-schrader-center-oglebay-tuesdays/
URL:https://oionline.com/events/nature-walk-schrader-center-oglebay-tuesdays/
END:VEVENT
END:VCALENDAR