BEGIN:VCALENDAR
VERSION:2.0
PRODID:-//eventon.com NONSGML v1.0//EN
CALSCALE:GREGORIAN
METHOD:PUBLISH
BEGIN:VEVENT
UID:69e8b2e7606de
DTSTAMP:20260422T113711Z
DTSTART:20210611T010000Z
DTEND:20210611T030000Z
LOCATION:Schrader Environmental Education Center Oglebay Resort\,  Wheeling\,  WV
SUMMARY:Astronomy at Oglebay Park's Speidel Observatory
DESCRIPTION:Learn more about astronomy and the night sky from local astrono
 mers Thursday evenings\,  June-August at Oglebay Park&#8217;s Speidel Obser
 vatory. Available 9-11pm Thursdays\,  June 10 &#8211; August 19. (Program w
 ill not take place July 8.) All ages welcome. Children must be accompanied 
 by an adult. Parking is available at the Schrader[..]\nhttps://oionline.com
 /events/astronomy-schrader-center-oglebay/
URL:https://oionline.com/events/astronomy-schrader-center-oglebay/
END:VEVENT
END:VCALENDAR