BEGIN:VCALENDAR
VERSION:2.0
PRODID:-//eventon.com NONSGML v1.0//EN
CALSCALE:GREGORIAN
METHOD:PUBLISH
BEGIN:VEVENT
UID:69e856b4dd776
DTSTAMP:20260422T050348Z
DTSTART:20250719T220000Z
DTEND:20250720T010000Z
LOCATION:Towngate Theatre 2118 Market Street Wheeling WV 26003
SUMMARY:Planet 23 Studios presents The 15 Minute Film Festival 2025
DESCRIPTION:Celebrate the art of the short film in all genres 6-9pm Saturda
 y\,  July 19 at Towngate Theatre. The Fifteen Minute Film Festival is in it
 s 9th year. Films will highlight several genres including comedy\,  drama\,
   horror\,  documentaries\,  and animation. Tickets are just $10. Purchase 
 online\,  by calling 304-242-7700 or at[..]\nhttps://oionline.com/events/15
 -minute-independent-film-festival-towngate-theatre/
URL:https://oionline.com/events/15-minute-independent-film-festival-towngate-theatre/
END:VEVENT
END:VCALENDAR