BEGIN:VCALENDAR
VERSION:2.0
PRODID:-//eventon.com NONSGML v1.0//EN
CALSCALE:GREGORIAN
METHOD:PUBLISH
BEGIN:VEVENT
UID:69e8b03466bad
DTSTAMP:20260422T112540Z
DTSTART:20190605T080000Z
DTEND:20190605T090000Z
LOCATION:Schrader Environmental Education Center Oglebay Resort\,  Wheeling\,  WV
SUMMARY:Wednesday Morning Bird Walk at the Schrader Center
DESCRIPTION:Get-up early for a morning bird walk along the trials of Ogleba
 y. A Schrader Center naturalist will be your guide as we learn to identify
  local birds by song and sight during their most active hours. Binoculars p
 rovided. Available 8-9am Wednesdays\,  June 5 through August 14. (Does not 
 meet July 2).[..]\nhttps://oionline.com/events/wednesday-morning-bird-walk-
 schrader-center-oglebay/
URL:https://oionline.com/events/wednesday-morning-bird-walk-schrader-center-oglebay/
END:VEVENT
END:VCALENDAR