BEGIN:VCALENDAR
VERSION:2.0
PRODID:-//eventon.com NONSGML v1.0//EN
CALSCALE:GREGORIAN
METHOD:PUBLISH
BEGIN:VEVENT
UID:69eb979eadd43
DTSTAMP:20260424T161734Z
DTSTART:20200103T180000Z
DTEND:20200103T210000Z
LOCATION:Towngate Theatre 2118 Market Street Wheeling WV 26003
SUMMARY:First Friday Art Show & Short Films at Towngate
DESCRIPTION:Add Oglebay Institute’s Towngate Theatre to your list of Janu
 ary 3 First Friday stops in Wheeling! View the latest art exhibit on displa
 y in The Gallery at Towngate. Enjoy short films on the Towngate big screen\
 ,  too! Doors open at 6pm. Have a drink on us. You first drink is[..]\nhttp
 s://oionline.com/events/first-friday-towngate-january/
URL:https://oionline.com/events/first-friday-towngate-january/
END:VEVENT
END:VCALENDAR