BEGIN:VCALENDAR
VERSION:2.0
PRODID:-//eventon.com NONSGML v1.0//EN
CALSCALE:GREGORIAN
METHOD:PUBLISH
BEGIN:VEVENT
UID:69e8b481b99f6
DTSTAMP:20260422T114401Z
DTSTART:20190603T130000Z
DTEND:20190603T140000Z
LOCATION:Schrader Environmental Education Center Oglebay Resort\,  Wheeling\,  WV
SUMMARY:Butterfly Hunt at the Schrader Center
DESCRIPTION:Head out to the Corson Wildflower and Butterfly Garden at the S
 chrader Center in Oglebay to gently catch\,  study and release butterflies 
 and other pollinating insects. Available 1-2pm Mondays\,  June 3 through Au
 gust 17. (Does not meet July 1.) All ages welcome. Children must be accompa
 nied by an adult. Please[..]\nhttps://oionline.com/events/butterfly-hunt-sc
 hrader-center-oglebay/
URL:https://oionline.com/events/butterfly-hunt-schrader-center-oglebay/
END:VEVENT
END:VCALENDAR