BEGIN:VCALENDAR
VERSION:2.0
PRODID:-//eventon.com NONSGML v1.0//EN
CALSCALE:GREGORIAN
METHOD:PUBLISH
BEGIN:VEVENT
UID:69e8b1a70b14a
DTSTAMP:20260422T113151Z
DTSTART:20200603T140000Z
DTEND:20200603T150000Z
LOCATION:Schrader Environmental Education Center Oglebay Resort\,  Wheeling\,  WV
SUMMARY:Salamander Search
DESCRIPTION:Join as we gently catch\,  study\,  and release salamanders\,  
 crayfish\,  aquatic insects and fish in Waddles Run. Nets and collection bu
 ckets provided. Wear boots and clothes that can get wet! Meets at pull-off 
 by intersection of Warden Run Road and Falls Drive. Available 2-3pm Wednesd
 ay\,  June 3 through August 12. (Does[..]\nhttps://oionline.com/events/sal
 amander-search-schrder-center-oglebay/
URL:https://oionline.com/events/salamander-search-schrder-center-oglebay/
END:VEVENT
END:VCALENDAR