BEGIN:VCALENDAR
VERSION:2.0
PRODID:-//eventon.com NONSGML v1.0//EN
CALSCALE:GREGORIAN
METHOD:PUBLISH
BEGIN:VEVENT
UID:69e77e1b6c7c7
DTSTAMP:20260421T133939Z
DTSTART:20260315T000000Z
DTEND:20260315T035900Z
LOCATION:Stifel Fine Arts Center &amp; School of Dance 1330 National Road\,  Wheeling\,  WV 26003
SUMMARY:Jazz at the Stifel presents W & J New Quartet
DESCRIPTION:Jazz at the Stifel presents W &amp; J New Quartet 8pm Saturday\
 ,  March 14\,  2026. All tickets are $25. Purchase online or call 304-242-
 7700. W &amp; J New Quartet features Reggie Watkins\,  Curtis Johnson\,  De
 nzel Chismar-Oliver\,  and Jason Washington Jr. Jazz at the Stifel is spons
 ored\,  in part\,  by the Wheeling[..]\nhttps://oionline.com/events/jazz-at
 -the-stifel-curtis-johnson/
URL:https://oionline.com/events/jazz-at-the-stifel-curtis-johnson/
END:VEVENT
END:VCALENDAR